BEGIN:VCALENDAR
VERSION:2.0
PRODID:-// - ECPv6.15.20//NONSGML v1.0//EN
CALSCALE:GREGORIAN
METHOD:PUBLISH
X-ORIGINAL-URL:https://plan64.de
X-WR-CALDESC:Veranstaltungen für 
REFRESH-INTERVAL;VALUE=DURATION:PT1H
X-Robots-Tag:noindex
X-PUBLISHED-TTL:PT1H
BEGIN:VTIMEZONE
TZID:Europe/Berlin
BEGIN:DAYLIGHT
TZOFFSETFROM:+0100
TZOFFSETTO:+0200
TZNAME:CEST
DTSTART:20250330T010000
END:DAYLIGHT
BEGIN:STANDARD
TZOFFSETFROM:+0200
TZOFFSETTO:+0100
TZNAME:CET
DTSTART:20251026T010000
END:STANDARD
BEGIN:DAYLIGHT
TZOFFSETFROM:+0100
TZOFFSETTO:+0200
TZNAME:CEST
DTSTART:20260329T010000
END:DAYLIGHT
BEGIN:STANDARD
TZOFFSETFROM:+0200
TZOFFSETTO:+0100
TZNAME:CET
DTSTART:20261025T010000
END:STANDARD
BEGIN:DAYLIGHT
TZOFFSETFROM:+0100
TZOFFSETTO:+0200
TZNAME:CEST
DTSTART:20270328T010000
END:DAYLIGHT
BEGIN:STANDARD
TZOFFSETFROM:+0200
TZOFFSETTO:+0100
TZNAME:CET
DTSTART:20271031T010000
END:STANDARD
END:VTIMEZONE
BEGIN:VEVENT
DTSTART;VALUE=DATE:20260418
DTEND;VALUE=DATE:20260706
DTSTAMP:20260422T134052
CREATED:20260407T123042Z
LAST-MODIFIED:20260407T124306Z
UID:3239-1776470400-1783295999@plan64.de
SUMMARY:Fotoaustellung Frank Kunert
DESCRIPTION:Fotoaustellung Frank Kunert im Badehaus Schloss Fasanerie – Miniaturwelten Räume des Unmöglichen. \nKulturstiftung des Hauses Hessen \nMuseum Schloß Fasanerie \n36124 Eichenzell bei Fulda \nÖffnungszeiten 11.00h – 17.00h \nFrank Kunert inzeniert kleine Modelle\, indenen die Realität verschwimmt – ganz ohne KI. \nBitte informieren sie sich über die Webseite von Frank Kunert: \nhttps://www.frank-kunert.de/ \n 
URL:https://plan64.de/event/fotoaustellung-frank-kunert/
LOCATION:siehe Veranstaltungs Beschreibung
CATEGORIES:kostenpflichtig,Messe / Hausmesse
END:VEVENT
BEGIN:VEVENT
DTSTART;TZID=Europe/Berlin:20260425T110000
DTEND;TZID=Europe/Berlin:20260425T170000
DTSTAMP:20260422T134052
CREATED:20260319T182657Z
LAST-MODIFIED:20260319T182657Z
UID:2917-1777114800-1777136400@plan64.de
SUMMARY:One Light Setup Portrait mit Studioblitz & Model
DESCRIPTION:One Light Setup Portrait mit Studioblitz mit Model\nDieser Workshop richtet sich an Fotograf*innen\, die lernen möchten\, wie sie mit nur einer einzigen Lichtquelle beeindruckende und professionelle Ergebnisse erzielen können. Egal\, ob du Studiofotografie\, Porträtaufnahmen oder kreative Lichtinszenierungen meistern möchtest – dieser Workshop zeigt dir\, wie du mit minimalem Equipment maximale Wirkung erzielen kannst. \nBitte beachte\, dass wir eine Mindestteilnehmeranzahl für diesen Workshop haben. Wird diese nicht erreicht\, wird der Workshop kurzfristig abgesagt. \nBitte informiert euch über die Webseite über das Event!
URL:https://plan64.de/event/one-light-setup-portrait-mit-studioblitz-model/
LOCATION:Calumet Photo Video Filiale Frankfurt\, Hanauer Landstraße 174\, Frankfurt am Main\, Hessen\, 60314\, Germany
CATEGORIES:kostenpflichtig,Workshop
ORGANIZER;CN="Calumet Photo Video":MAILTO:frankfurt@calumetphoto.de
END:VEVENT
END:VCALENDAR